BEGIN:VCALENDAR
VERSION:2.0
PRODID:-//Heartworks - ECPv5.9.0//NONSGML v1.0//EN
CALSCALE:GREGORIAN
METHOD:PUBLISH
X-WR-CALNAME:Heartworks
X-ORIGINAL-URL:https://www.njheartworks.org
X-WR-CALDESC:Events for Heartworks
BEGIN:VTIMEZONE
TZID:America/New_York
BEGIN:DAYLIGHT
TZOFFSETFROM:-0500
TZOFFSETTO:-0400
TZNAME:EDT
DTSTART:20170312T070000
END:DAYLIGHT
BEGIN:STANDARD
TZOFFSETFROM:-0400
TZOFFSETTO:-0500
TZNAME:EST
DTSTART:20171105T060000
END:STANDARD
END:VTIMEZONE
BEGIN:VEVENT
DTSTART;TZID=America/New_York:20170724T190000
DTEND;TZID=America/New_York:20170724T230000
DTSTAMP:20260420T035822
CREATED:20170720T193921Z
LAST-MODIFIED:20170720T194559Z
UID:1658-1500922800-1500937200@www.njheartworks.org
SUMMARY:Workshop with Megan: Tapping into Inner Peace
DESCRIPTION:Tapping into Inner Peace\nJuly 24\, 2017\n7 – 8:30 p.m.\nThis workshop will be held outside at the Sisters of Christian Charity to learn how nature can help us tap into the well of peace that exists in all of us. \nJoin Megan for 90 minutes that will add a new dimension to being outside in nature this summer… \n\nLearn how nature can remind us of our own resiliency and strength.\nLearn simple Mindfulness techniques that will enhance your outside exercise and activity this summer.\nLearn how focusing on what is right outside our window can slow down our thoughts and help us to experience peace in our minds.\n​\n\nA suggested donation of $50 is requested for each of Megan’s workshops
URL:https://www.njheartworks.org/event/workshop-megan-tapping-inner-peace/
LOCATION:Sisters of Christian Charity\, 350 Bernardsville Road\, Mendham\, 07945\, United States
CATEGORIES:Event,Workshop
ATTACH;FMTTYPE=image/jpeg:https://www.njheartworks.org/wp-content/uploads/2017/06/workshopwithmegan.jpg
END:VEVENT
END:VCALENDAR