BEGIN:VCALENDAR
VERSION:2.0
PRODID:-//Heartworks - ECPv5.9.0//NONSGML v1.0//EN
CALSCALE:GREGORIAN
METHOD:PUBLISH
X-WR-CALNAME:Heartworks
X-ORIGINAL-URL:https://www.njheartworks.org
X-WR-CALDESC:Events for Heartworks
BEGIN:VTIMEZONE
TZID:America/New_York
BEGIN:DAYLIGHT
TZOFFSETFROM:-0500
TZOFFSETTO:-0400
TZNAME:EDT
DTSTART:20170312T070000
END:DAYLIGHT
BEGIN:STANDARD
TZOFFSETFROM:-0400
TZOFFSETTO:-0500
TZNAME:EST
DTSTART:20171105T060000
END:STANDARD
END:VTIMEZONE
BEGIN:VEVENT
DTSTART;TZID=America/New_York:20170627T190000
DTEND;TZID=America/New_York:20170627T203000
DTSTAMP:20260419T182646
CREATED:20170626T233621Z
LAST-MODIFIED:20170718T161353Z
UID:1318-1498590000-1498595400@www.njheartworks.org
SUMMARY:Workshop with Megan: Summer Intentions 7 - 8:30 p.m.
DESCRIPTION:This workshop will focus on having a balanced summer of personal growth\, self care\, family and gratitude \n– When fall is here\, what do you want to look back and say “I am so psyched I WORK ON THAT\, DID THAT or EXPERIENCED this summer?! \n– Explore what keeps us from feeling balanced with family\, work\, fun and expectations of the changing season \n– Create a personal mission statement and vision of your summer so that we live each day with intention for joy\, growth and balance. \nTaking this hour and a half for yourself will make a huge difference for the next two months \nSign Up Here
URL:https://www.njheartworks.org/event/workshop-megan-summer-intentions-7-830-p-m/
LOCATION:Heartworks\, 19 Route 202\, Basking Ridge\, NJ\, 07920\, United States
CATEGORIES:Event,Workshop
ATTACH;FMTTYPE=image/jpeg:https://www.njheartworks.org/wp-content/uploads/2017/06/workshopwithmegan.jpg
END:VEVENT
END:VCALENDAR