BEGIN:VCALENDAR
VERSION:2.0
PRODID:-//Heartworks - ECPv5.9.0//NONSGML v1.0//EN
CALSCALE:GREGORIAN
METHOD:PUBLISH
X-WR-CALNAME:Heartworks
X-ORIGINAL-URL:https://www.njheartworks.org
X-WR-CALDESC:Events for Heartworks
BEGIN:VTIMEZONE
TZID:America/New_York
BEGIN:DAYLIGHT
TZOFFSETFROM:-0500
TZOFFSETTO:-0400
TZNAME:EDT
DTSTART:20180311T070000
END:DAYLIGHT
BEGIN:STANDARD
TZOFFSETFROM:-0400
TZOFFSETTO:-0500
TZNAME:EST
DTSTART:20181104T060000
END:STANDARD
END:VTIMEZONE
BEGIN:VEVENT
DTSTART;TZID=America/New_York:20180126T190000
DTEND;TZID=America/New_York:20180126T230000
DTSTAMP:20260420T005350
CREATED:20171011T211837Z
LAST-MODIFIED:20180108T143738Z
UID:1998-1516993200-1517007600@www.njheartworks.org
SUMMARY:Ultimate Tailgate Fundraiser
DESCRIPTION:Join us for Heartworks Fifth Annual Ultimate Tailgate Tasting.\nWhere we will have over 15 top chefs competing in our\nBest Taste and Best Cake.\nLast Years winners were\nBest Taste 2017 Fiddlers Elbow    Best Cake 2017 A Sweet Passion \nPurchase Tickets
URL:https://www.njheartworks.org/event/ultimate-tailgate-fundraiser-2018/
LOCATION:Stone House at Stirling Ridge\, 50 Stirling Road\, Warren\, NJ\, 07059
CATEGORIES:Event,Fundraiser
ATTACH;FMTTYPE=image/jpeg:https://www.njheartworks.org/wp-content/uploads/2017/10/2018-Fundraiser-Banner.jpg
END:VEVENT
END:VCALENDAR