BEGIN:VCALENDAR
VERSION:2.0
PRODID:-//Heartworks - ECPv5.9.0//NONSGML v1.0//EN
CALSCALE:GREGORIAN
METHOD:PUBLISH
X-WR-CALNAME:Heartworks
X-ORIGINAL-URL:https://www.njheartworks.org
X-WR-CALDESC:Events for Heartworks
BEGIN:VTIMEZONE
TZID:America/New_York
BEGIN:DAYLIGHT
TZOFFSETFROM:-0500
TZOFFSETTO:-0400
TZNAME:EDT
DTSTART:20170312T070000
END:DAYLIGHT
BEGIN:STANDARD
TZOFFSETFROM:-0400
TZOFFSETTO:-0500
TZNAME:EST
DTSTART:20171105T060000
END:STANDARD
END:VTIMEZONE
BEGIN:VEVENT
DTSTART;TZID=America/New_York:20170911T083000
DTEND;TZID=America/New_York:20170911T090000
DTSTAMP:20260420T035655
CREATED:20170901T200555Z
LAST-MODIFIED:20170907T152616Z
UID:1820-1505118600-1505120400@www.njheartworks.org
SUMMARY:September 11th Ceremony
DESCRIPTION:Please join our local Veterans for a brief ceremony as we honor the lives lost on September 11\, 2001. \nHeartworks House \n19 Rte 202\, Basking Ridge \n8:30 a.m – Let’s begin to gather at the flagpole in front of the Heartworks House \n8:46 a.m. (prompt) – Flag raising and memorial service begins \nAfter our brief ceremony we will be serving breakfast to our beloved Veterans if anyone would like to come into Heartworks and visit. \nThe Meditation Room will be open following our 9/11 ceremony for anyone looking for quiet reflection until 3:30.
URL:https://www.njheartworks.org/event/september-11th-ceremony/
CATEGORIES:Event
ATTACH;FMTTYPE=image/jpeg:https://www.njheartworks.org/wp-content/uploads/2017/09/DSC_1017.jpg
END:VEVENT
END:VCALENDAR