BEGIN:VCALENDAR
VERSION:2.0
PRODID:-//Heartworks - ECPv5.9.0//NONSGML v1.0//EN
CALSCALE:GREGORIAN
METHOD:PUBLISH
X-WR-CALNAME:Heartworks
X-ORIGINAL-URL:https://www.njheartworks.org
X-WR-CALDESC:Events for Heartworks
BEGIN:VTIMEZONE
TZID:America/New_York
BEGIN:DAYLIGHT
TZOFFSETFROM:-0500
TZOFFSETTO:-0400
TZNAME:EDT
DTSTART:20200308T070000
END:DAYLIGHT
BEGIN:STANDARD
TZOFFSETFROM:-0400
TZOFFSETTO:-0500
TZNAME:EST
DTSTART:20201101T060000
END:STANDARD
END:VTIMEZONE
BEGIN:VEVENT
DTSTART;TZID=America/New_York:20201029T190000
DTEND;TZID=America/New_York:20201029T203000
DTSTAMP:20260419T072005
CREATED:20201006T182420Z
LAST-MODIFIED:20201006T185243Z
UID:8672-1603998000-1604003400@www.njheartworks.org
SUMMARY:October Book Club in Person & via Zoom
DESCRIPTION:Please join us in person or via Zoom for our October Book Club to discuss “The Time is Now: A Call to Uncommon Courage” by Joan Chittister. \nEmail us for the in person book club link @ heartworks@heartworksgroup.org \nClick here to join via Zoom \nDue to Covid19 in person space is limited\, please register ahead of time so we are sure to socially distance and if you plan to come in person please wear a mask. \n  \n 
URL:https://www.njheartworks.org/event/october-book-club-in-person-via-zoom/
LOCATION:NJ\, United States
CATEGORIES:Book Club
ATTACH;FMTTYPE=image/jpeg:https://www.njheartworks.org/wp-content/uploads/2020/10/HW-10_20-Book-Club.jpg
END:VEVENT
END:VCALENDAR