BEGIN:VCALENDAR
VERSION:2.0
PRODID:-//Heartworks - ECPv5.9.0//NONSGML v1.0//EN
CALSCALE:GREGORIAN
METHOD:PUBLISH
X-WR-CALNAME:Heartworks
X-ORIGINAL-URL:https://www.njheartworks.org
X-WR-CALDESC:Events for Heartworks
BEGIN:VTIMEZONE
TZID:America/New_York
BEGIN:DAYLIGHT
TZOFFSETFROM:-0500
TZOFFSETTO:-0400
TZNAME:EDT
DTSTART:20210314T070000
END:DAYLIGHT
BEGIN:STANDARD
TZOFFSETFROM:-0400
TZOFFSETTO:-0500
TZNAME:EST
DTSTART:20211107T060000
END:STANDARD
END:VTIMEZONE
BEGIN:VEVENT
DTSTART;TZID=America/New_York:20210503T090000
DTEND;TZID=America/New_York:20210503T093000
DTSTAMP:20260419T114359
CREATED:20210223T164642Z
LAST-MODIFIED:20210223T164642Z
UID:9525-1620032400-1620034200@www.njheartworks.org
SUMMARY:Morning Meditation via Zoom
DESCRIPTION:Join us via Zoom every Monday morning to cultivate peace and connection in our guided meditation. No meditation experience necessary\, everyone is welcome. Email us for the link. \n\n 
URL:https://www.njheartworks.org/event/morning-meditation-via-zoom-66/
LOCATION:NJ\, United States
CATEGORIES:Morning Meditation
ATTACH;FMTTYPE=image/jpeg:https://www.njheartworks.org/wp-content/uploads/2020/10/975F3CC8-BC33-4C39-8899-8FC40D921B26_1_105_c.jpeg
END:VEVENT
END:VCALENDAR