BEGIN:VCALENDAR
VERSION:2.0
PRODID:-//Heartworks - ECPv5.9.0//NONSGML v1.0//EN
CALSCALE:GREGORIAN
METHOD:PUBLISH
X-WR-CALNAME:Heartworks
X-ORIGINAL-URL:https://www.njheartworks.org
X-WR-CALDESC:Events for Heartworks
BEGIN:VTIMEZONE
TZID:America/New_York
BEGIN:DAYLIGHT
TZOFFSETFROM:-0500
TZOFFSETTO:-0400
TZNAME:EDT
DTSTART:20180311T070000
END:DAYLIGHT
BEGIN:STANDARD
TZOFFSETFROM:-0400
TZOFFSETTO:-0500
TZNAME:EST
DTSTART:20181104T060000
END:STANDARD
END:VTIMEZONE
BEGIN:VEVENT
DTSTART;TZID=America/New_York:20180927T190000
DTEND;TZID=America/New_York:20180927T210000
DTSTAMP:20260419T141757
CREATED:20180821T161854Z
LAST-MODIFIED:20180823T150107Z
UID:2991-1538074800-1538082000@www.njheartworks.org
SUMMARY:Monthly Book Club
DESCRIPTION:We will be discussing The Gift of Change by Marianne Williamson.
URL:https://www.njheartworks.org/event/monthly-book-club/
LOCATION:Heartworks\, 19 Route 202\, Basking Ridge\, NJ\, 07920\, United States
CATEGORIES:Book Club
ATTACH;FMTTYPE=image/jpeg:https://www.njheartworks.org/wp-content/uploads/2018/08/IMG_6106.jpg
END:VEVENT
END:VCALENDAR