BEGIN:VCALENDAR
VERSION:2.0
PRODID:-//Heartworks - ECPv5.9.0//NONSGML v1.0//EN
CALSCALE:GREGORIAN
METHOD:PUBLISH
X-WR-CALNAME:Heartworks
X-ORIGINAL-URL:https://www.njheartworks.org
X-WR-CALDESC:Events for Heartworks
BEGIN:VTIMEZONE
TZID:America/New_York
BEGIN:DAYLIGHT
TZOFFSETFROM:-0500
TZOFFSETTO:-0400
TZNAME:EDT
DTSTART:20180311T070000
END:DAYLIGHT
BEGIN:STANDARD
TZOFFSETFROM:-0400
TZOFFSETTO:-0500
TZNAME:EST
DTSTART:20181104T060000
END:STANDARD
END:VTIMEZONE
BEGIN:VEVENT
DTSTART;TZID=America/New_York:20180507T090000
DTEND;TZID=America/New_York:20180507T220000
DTSTAMP:20260419T231715
CREATED:20180502T140706Z
LAST-MODIFIED:20180507T140722Z
UID:2735-1525683600-1525730400@www.njheartworks.org
SUMMARY:Canceled - May Labyrinth Walk
DESCRIPTION:Monday\, May 7th labyrinth walk is canceled.\nLabyrinth walks with Megan will start in June and go through the fall. We look forward to seeing you!
URL:https://www.njheartworks.org/event/may-labyrinth-walk-2/
LOCATION:Labyrinth Walk\, 350 Bernardsville Rd\, Mendham\, NJ\, 07945\, United States
CATEGORIES:Labyrinth Walk
ATTACH;FMTTYPE=image/jpeg:https://www.njheartworks.org/wp-content/uploads/2016/10/labyrinthwalk.jpg
END:VEVENT
END:VCALENDAR