BEGIN:VCALENDAR
VERSION:2.0
PRODID:-//Heartworks - ECPv5.9.0//NONSGML v1.0//EN
CALSCALE:GREGORIAN
METHOD:PUBLISH
X-WR-CALNAME:Heartworks
X-ORIGINAL-URL:https://www.njheartworks.org
X-WR-CALDESC:Events for Heartworks
BEGIN:VTIMEZONE
TZID:America/New_York
BEGIN:DAYLIGHT
TZOFFSETFROM:-0500
TZOFFSETTO:-0400
TZNAME:EDT
DTSTART:20190310T070000
END:DAYLIGHT
BEGIN:STANDARD
TZOFFSETFROM:-0400
TZOFFSETTO:-0500
TZNAME:EST
DTSTART:20191103T060000
END:STANDARD
END:VTIMEZONE
BEGIN:VEVENT
DTSTART;TZID=America/New_York:20190224T190000
DTEND;TZID=America/New_York:20190224T203000
DTSTAMP:20260419T152428
CREATED:20180913T152050Z
LAST-MODIFIED:20180913T152050Z
UID:3080-1551034800-1551040200@www.njheartworks.org
SUMMARY:Jr. Heartworks Monthly Meeting
DESCRIPTION:Jr. Heartworks November meeting will be\nSunday\, February 24\, 7-8:30 pm\n\nJr. Heartworks is the daughter group of Heartworks for high school teens that practice the mission to\nBe Grateful\, Receive with Grace and Give with an Open Heart.\nWe support each other in our journey of self-awareness and practicing gratitude in our own lives.\nSuggested Support: $10.00 per meeting (which goes to the families we are helping).
URL:https://www.njheartworks.org/event/jr-heartworks-monthly-meeting-may-2018-2-2-2-2-2/
LOCATION:Heartworks\, 19 Route 202\, Basking Ridge\, NJ\, 07920\, United States
CATEGORIES:Jr. Heartworks Group
ATTACH;FMTTYPE=image/jpeg:https://www.njheartworks.org/wp-content/uploads/2016/09/DSC_0155.jpg
END:VEVENT
END:VCALENDAR