BEGIN:VCALENDAR
VERSION:2.0
PRODID:-//Heartworks - ECPv5.9.0//NONSGML v1.0//EN
CALSCALE:GREGORIAN
METHOD:PUBLISH
X-WR-CALNAME:Heartworks
X-ORIGINAL-URL:https://www.njheartworks.org
X-WR-CALDESC:Events for Heartworks
BEGIN:VTIMEZONE
TZID:America/New_York
BEGIN:DAYLIGHT
TZOFFSETFROM:-0500
TZOFFSETTO:-0400
TZNAME:EDT
DTSTART:20180311T070000
END:DAYLIGHT
BEGIN:STANDARD
TZOFFSETFROM:-0400
TZOFFSETTO:-0500
TZNAME:EST
DTSTART:20181104T060000
END:STANDARD
END:VTIMEZONE
BEGIN:VEVENT
DTSTART;TZID=America/New_York:20180710T190000
DTEND;TZID=America/New_York:20180710T210000
DTSTAMP:20260419T201822
CREATED:20180306T181019Z
LAST-MODIFIED:20180430T232239Z
UID:2557-1531249200-1531256400@www.njheartworks.org
SUMMARY:Heartworks Monthly Meeting
DESCRIPTION:Join Heartworks July* Meeting.\n*This meeting is the second week due to the July 4th holiday. \n\n\n\n\n\n\n\n\n7 p.m.        Newcomers meeting \n7-8 p.m.    Social hour (with a purpose) \n8 p.m.         Meeting begins \n$30 suggested donation \nAll of which goes to families in need of some love! \n\nClick here for more information about why we say “Come to a Meeting!”
URL:https://www.njheartworks.org/event/heartworks-monthly-meeting-july-10/
LOCATION:Heartworks\, 19 Route 202\, Basking Ridge\, NJ\, 07920\, United States
CATEGORIES:Heartworks Meeting
ATTACH;FMTTYPE=image/jpeg:https://www.njheartworks.org/wp-content/uploads/2016/10/meeting.jpg
END:VEVENT
END:VCALENDAR