BEGIN:VCALENDAR
VERSION:2.0
PRODID:-//Heartworks - ECPv5.9.0//NONSGML v1.0//EN
CALSCALE:GREGORIAN
METHOD:PUBLISH
X-WR-CALNAME:Heartworks
X-ORIGINAL-URL:https://www.njheartworks.org
X-WR-CALDESC:Events for Heartworks
BEGIN:VTIMEZONE
TZID:America/New_York
BEGIN:DAYLIGHT
TZOFFSETFROM:-0500
TZOFFSETTO:-0400
TZNAME:EDT
DTSTART:20170312T070000
END:DAYLIGHT
BEGIN:STANDARD
TZOFFSETFROM:-0400
TZOFFSETTO:-0500
TZNAME:EST
DTSTART:20171105T060000
END:STANDARD
END:VTIMEZONE
BEGIN:VEVENT
DTSTART;TZID=America/New_York:20170711T190000
DTEND;TZID=America/New_York:20170711T210000
DTSTAMP:20260419T170035
CREATED:20170626T234019Z
LAST-MODIFIED:20170718T161353Z
UID:1322-1499799600-1499806800@www.njheartworks.org
SUMMARY:Heartworks July Meeting – Date Change – July 11\, 2017
DESCRIPTION:Our meeting is moved due to the July holiday!\n​\nPlease join us Tuesday\, July 11th for our social with a purpose and meeting.\n​\n7:00 p.m. Social hour (with a purpose)\n7:45 p.m. Newcomers meeting\n8:00 p.m. Meeting begins\n$30 suggested donation all of which goes to families in need of some love!\n​\nHeartworks House\n19 Morristown Rd\nBasking Ridge\, NJ 07920
URL:https://www.njheartworks.org/event/heartworks-july-meeting-date-change-july-11-2017/
LOCATION:Heartworks\, 19 Route 202\, Basking Ridge\, NJ\, 07920\, United States
CATEGORIES:Heartworks Meeting
ATTACH;FMTTYPE=image/jpeg:https://www.njheartworks.org/wp-content/uploads/2016/10/meeting.jpg
END:VEVENT
END:VCALENDAR