BEGIN:VCALENDAR
VERSION:2.0
PRODID:-//Heartworks - ECPv5.9.0//NONSGML v1.0//EN
CALSCALE:GREGORIAN
METHOD:PUBLISH
X-WR-CALNAME:Heartworks
X-ORIGINAL-URL:https://www.njheartworks.org
X-WR-CALDESC:Events for Heartworks
BEGIN:VTIMEZONE
TZID:America/New_York
BEGIN:DAYLIGHT
TZOFFSETFROM:-0500
TZOFFSETTO:-0400
TZNAME:EDT
DTSTART:20180311T070000
END:DAYLIGHT
BEGIN:STANDARD
TZOFFSETFROM:-0400
TZOFFSETTO:-0500
TZNAME:EST
DTSTART:20181104T060000
END:STANDARD
END:VTIMEZONE
BEGIN:VEVENT
DTSTART;TZID=America/New_York:20180612T190000
DTEND;TZID=America/New_York:20180612T200000
DTSTAMP:20260419T120914
CREATED:20180521T160210Z
LAST-MODIFIED:20180521T160210Z
UID:2758-1528830000-1528833600@www.njheartworks.org
SUMMARY:No Gong Meditation for June
DESCRIPTION:Please join us in July as our Gong Meditation Sound Journey will not be held in June this year.
URL:https://www.njheartworks.org/event/gong-meditation-sound-journey-jan-2-2-2/
LOCATION:Heartworks\, 19 Route 202\, Basking Ridge\, NJ\, 07920\, United States
CATEGORIES:Event,Gong Meditation
ATTACH;FMTTYPE=image/png:https://www.njheartworks.org/wp-content/uploads/2017/10/Screen-Shot-2017-10-11-at-1.30.55-PM.png
END:VEVENT
END:VCALENDAR