BEGIN:VCALENDAR
VERSION:2.0
PRODID:-//Heartworks - ECPv5.9.0//NONSGML v1.0//EN
CALSCALE:GREGORIAN
METHOD:PUBLISH
X-WR-CALNAME:Heartworks
X-ORIGINAL-URL:https://www.njheartworks.org
X-WR-CALDESC:Events for Heartworks
BEGIN:VTIMEZONE
TZID:America/New_York
BEGIN:DAYLIGHT
TZOFFSETFROM:-0500
TZOFFSETTO:-0400
TZNAME:EDT
DTSTART:20190310T070000
END:DAYLIGHT
BEGIN:STANDARD
TZOFFSETFROM:-0400
TZOFFSETTO:-0500
TZNAME:EST
DTSTART:20191103T060000
END:STANDARD
END:VTIMEZONE
BEGIN:VEVENT
DTSTART;TZID=America/New_York:20190530T190000
DTEND;TZID=America/New_York:20190530T210000
DTSTAMP:20260419T124841
CREATED:20190429T185430Z
LAST-MODIFIED:20190429T185430Z
UID:3875-1559242800-1559250000@www.njheartworks.org
SUMMARY:Book Club
DESCRIPTION:This month we will be discussing “LAVIL: Live\, Love\, and Death in Port-au-Prince\,” by Peter Orner and Evan Lyon. \nThe discussion will be lead by Heartworks Board of Directors member\, Gail Granowitz\, who travels to Haiti with a team of doctors to perform surgeries on women in treatment for breast cancer.
URL:https://www.njheartworks.org/event/book-club-7/
LOCATION:Heartworks\, 19 Route 202\, Basking Ridge\, NJ\, 07920\, United States
CATEGORIES:Book Club
ATTACH;FMTTYPE=image/png:https://www.njheartworks.org/wp-content/uploads/2019/04/Screen-Shot-2019-04-29-at-2.53.24-PM.png
END:VEVENT
END:VCALENDAR