BEGIN:VCALENDAR
VERSION:2.0
PRODID:-//Heartworks - ECPv5.9.0//NONSGML v1.0//EN
CALSCALE:GREGORIAN
METHOD:PUBLISH
X-WR-CALNAME:Heartworks
X-ORIGINAL-URL:https://www.njheartworks.org
X-WR-CALDESC:Events for Heartworks
BEGIN:VTIMEZONE
TZID:America/New_York
BEGIN:DAYLIGHT
TZOFFSETFROM:-0500
TZOFFSETTO:-0400
TZNAME:EDT
DTSTART:20190310T070000
END:DAYLIGHT
BEGIN:STANDARD
TZOFFSETFROM:-0400
TZOFFSETTO:-0500
TZNAME:EST
DTSTART:20191103T060000
END:STANDARD
END:VTIMEZONE
BEGIN:VEVENT
DTSTART;TZID=America/New_York:20190627T190000
DTEND;TZID=America/New_York:20190627T210000
DTSTAMP:20260419T125643
CREATED:20190515T203020Z
LAST-MODIFIED:20190515T203020Z
UID:3955-1561662000-1561669200@www.njheartworks.org
SUMMARY:Book Club
DESCRIPTION:This month we will be discussing “Same Kind of Different as Me” by Ron Hall. \nThe discussion will be lead by Heartworks Board of Directors member\, Gail Granowitz\, who travels to Haiti with a team of doctors to perform surgeries on women in treatment for breast cancer.
URL:https://www.njheartworks.org/event/book-club-7-2/
LOCATION:Heartworks\, 19 Route 202\, Basking Ridge\, NJ\, 07920\, United States
CATEGORIES:Book Club
ATTACH;FMTTYPE=image/png:https://www.njheartworks.org/wp-content/uploads/2019/05/Screen-Shot-2019-05-15-at-4.29.44-PM.png
END:VEVENT
END:VCALENDAR