BEGIN:VCALENDAR
VERSION:2.0
PRODID:-//Heartworks - ECPv5.9.0//NONSGML v1.0//EN
CALSCALE:GREGORIAN
METHOD:PUBLISH
X-WR-CALNAME:Heartworks
X-ORIGINAL-URL:https://www.njheartworks.org
X-WR-CALDESC:Events for Heartworks
BEGIN:VTIMEZONE
TZID:America/New_York
BEGIN:DAYLIGHT
TZOFFSETFROM:-0500
TZOFFSETTO:-0400
TZNAME:EDT
DTSTART:20190310T070000
END:DAYLIGHT
BEGIN:STANDARD
TZOFFSETFROM:-0400
TZOFFSETTO:-0500
TZNAME:EST
DTSTART:20191103T060000
END:STANDARD
END:VTIMEZONE
BEGIN:VEVENT
DTSTART;TZID=America/New_York:20190131T190000
DTEND;TZID=America/New_York:20190131T210000
DTSTAMP:20260419T130115
CREATED:20181219T173704Z
LAST-MODIFIED:20181219T173704Z
UID:3340-1548961200-1548968400@www.njheartworks.org
SUMMARY:Book Club
DESCRIPTION:We will be discussing “The Art of Asking” by Amanda Palmer. \nPlease join us for a glass of wine or a mug of tea\, whether you’ve read the book or not! We always have meaningful and engaging discussions!
URL:https://www.njheartworks.org/event/book-club-4-2/
LOCATION:Heartworks\, 19 Route 202\, Basking Ridge\, NJ\, 07920\, United States
CATEGORIES:Book Club
ATTACH;FMTTYPE=image/jpeg:https://www.njheartworks.org/wp-content/uploads/2018/11/IMG_0492.jpeg
END:VEVENT
END:VCALENDAR