BEGIN:VCALENDAR
VERSION:2.0
PRODID:-//Heartworks - ECPv5.9.0//NONSGML v1.0//EN
CALSCALE:GREGORIAN
METHOD:PUBLISH
X-WR-CALNAME:Heartworks
X-ORIGINAL-URL:https://www.njheartworks.org
X-WR-CALDESC:Events for Heartworks
BEGIN:VTIMEZONE
TZID:America/New_York
BEGIN:DAYLIGHT
TZOFFSETFROM:-0500
TZOFFSETTO:-0400
TZNAME:EDT
DTSTART:20180311T070000
END:DAYLIGHT
BEGIN:STANDARD
TZOFFSETFROM:-0400
TZOFFSETTO:-0500
TZNAME:EST
DTSTART:20181104T060000
END:STANDARD
END:VTIMEZONE
BEGIN:VEVENT
DTSTART;TZID=America/New_York:20181025T190000
DTEND;TZID=America/New_York:20181025T210000
DTSTAMP:20260419T125834
CREATED:20181002T154148Z
LAST-MODIFIED:20181002T154326Z
UID:3144-1540494000-1540501200@www.njheartworks.org
SUMMARY:Book Club
DESCRIPTION:We will be discussing “Born to Receive” by Amanda Owen. \nThis books will teach you to: \n\nPay attention to you feelings and trust your intuition\nAsk for help when you need it\, and accept it when it’s offered\nSpeak up and advocate for your own needs\nCreate full reciprocity in your relationships\nAnd much more\n\nPlease join us for a glass of wine or a mug of tea\, whether you’ve read the book or not! We always have meaningful and engaging discussions!
URL:https://www.njheartworks.org/event/book-club-2/
LOCATION:Heartworks\, 19 Route 202\, Basking Ridge\, NJ\, 07920\, United States
CATEGORIES:Book Club
ATTACH;FMTTYPE=image/png:https://www.njheartworks.org/wp-content/uploads/2018/10/unnamed.png
END:VEVENT
END:VCALENDAR