BEGIN:VCALENDAR
VERSION:2.0
PRODID:-//Heartworks - ECPv5.9.0//NONSGML v1.0//EN
CALSCALE:GREGORIAN
METHOD:PUBLISH
X-WR-CALNAME:Heartworks
X-ORIGINAL-URL:https://www.njheartworks.org
X-WR-CALDESC:Events for Heartworks
BEGIN:VTIMEZONE
TZID:America/New_York
BEGIN:DAYLIGHT
TZOFFSETFROM:-0500
TZOFFSETTO:-0400
TZNAME:EDT
DTSTART:20200308T070000
END:DAYLIGHT
BEGIN:STANDARD
TZOFFSETFROM:-0400
TZOFFSETTO:-0500
TZNAME:EST
DTSTART:20201101T060000
END:STANDARD
END:VTIMEZONE
BEGIN:VEVENT
DTSTART;TZID=America/New_York:20200402T193000
DTEND;TZID=America/New_York:20200402T210000
DTSTAMP:20260419T112646
CREATED:20200203T195734Z
LAST-MODIFIED:20200327T190006Z
UID:6392-1585855800-1585861200@www.njheartworks.org
SUMMARY:Book Club via Zoom
DESCRIPTION:This month we will be discussing “Everything Happens for a Reason: And Other Lies I’ve Loved” by Kate Bowler. \nClick the link below to join. \nJoin Zoom Meeting\nhttps://zoom.us/j/232626070 \nMeeting ID: 232 626 070 \nor \nOne tap mobile\n+19292056099\,\,232626070# US (New York)
URL:https://www.njheartworks.org/event/book-club-10/
LOCATION:NJ\, United States
CATEGORIES:Book Club
ATTACH;FMTTYPE=image/jpeg:https://www.njheartworks.org/wp-content/uploads/2020/02/Evert-Hap.jpg
END:VEVENT
END:VCALENDAR