BEGIN:VCALENDAR
VERSION:2.0
PRODID:-//Heartworks - ECPv5.9.0//NONSGML v1.0//EN
CALSCALE:GREGORIAN
METHOD:PUBLISH
X-WR-CALNAME:Heartworks
X-ORIGINAL-URL:https://www.njheartworks.org
X-WR-CALDESC:Events for Heartworks
BEGIN:VTIMEZONE
TZID:America/New_York
BEGIN:DAYLIGHT
TZOFFSETFROM:-0500
TZOFFSETTO:-0400
TZNAME:EDT
DTSTART:20210314T070000
END:DAYLIGHT
BEGIN:STANDARD
TZOFFSETFROM:-0400
TZOFFSETTO:-0500
TZNAME:EST
DTSTART:20211107T060000
END:STANDARD
END:VTIMEZONE
BEGIN:VEVENT
DTSTART;TZID=America/New_York:20210429T190000
DTEND;TZID=America/New_York:20210429T203000
DTSTAMP:20260419T102002
CREATED:20210223T170743Z
LAST-MODIFIED:20210223T170743Z
UID:9531-1619722800-1619728200@www.njheartworks.org
SUMMARY:April Book Club via Zoom
DESCRIPTION:Please join us via Zoom for our April Book Club to discuss “Becoming” by Michelle Obama. \nPlease email us for the zoom link. \n  \n 
URL:https://www.njheartworks.org/event/april-book-club-via-zoom/
LOCATION:NJ\, United States
CATEGORIES:Book Club
ATTACH;FMTTYPE=image/jpeg:https://www.njheartworks.org/wp-content/uploads/2021/01/HW-April-21-Book-Club-copy.jpg
END:VEVENT
END:VCALENDAR