BEGIN:VCALENDAR
VERSION:2.0
PRODID:-//Heartworks - ECPv5.9.0//NONSGML v1.0//EN
CALSCALE:GREGORIAN
METHOD:PUBLISH
X-WR-CALNAME:Heartworks
X-ORIGINAL-URL:https://www.njheartworks.org
X-WR-CALDESC:Events for Heartworks
BEGIN:VTIMEZONE
TZID:America/New_York
BEGIN:DAYLIGHT
TZOFFSETFROM:-0500
TZOFFSETTO:-0400
TZNAME:EDT
DTSTART:20200308T070000
END:DAYLIGHT
BEGIN:STANDARD
TZOFFSETFROM:-0400
TZOFFSETTO:-0500
TZNAME:EST
DTSTART:20201101T060000
END:STANDARD
END:VTIMEZONE
BEGIN:VEVENT
DTSTART;TZID=America/New_York:20200218T090000
DTEND;TZID=America/New_York:20200218T093000
DTSTAMP:20260420T132043
CREATED:20200121T175433Z
LAST-MODIFIED:20200121T175433Z
UID:6261-1582016400-1582018200@www.njheartworks.org
SUMMARY:Morning Meditation
DESCRIPTION:Join us every Tuesday morning to cultivate peace and connection in our guided meditation. No meditation experience necessary\, everyone is welcome.
URL:https://www.njheartworks.org/event/morning-meditation-20/
LOCATION:Heartworks\, 19 Route 202\, Basking Ridge\, NJ\, 07920\, United States
CATEGORIES:Morning Meditation
END:VEVENT
BEGIN:VEVENT
DTSTART;TZID=America/New_York:20200218T190000
DTEND;TZID=America/New_York:20200218T200000
DTSTAMP:20260420T132043
CREATED:20200130T145317Z
LAST-MODIFIED:20200130T145317Z
UID:6345-1582052400-1582056000@www.njheartworks.org
SUMMARY:Desserts on Purpose
DESCRIPTION:Megan will speak on the lens for the month “Yearning to Belong” \nREGISTER HERE
URL:https://www.njheartworks.org/event/desserts-on-purpose/
LOCATION:Heartworks\, 19 Route 202\, Basking Ridge\, NJ\, 07920\, United States
CATEGORIES:Desserts with a Purpose
ATTACH;FMTTYPE=image/jpeg:https://www.njheartworks.org/wp-content/uploads/2020/01/Purpose-2-20-Final-1.jpg
END:VEVENT
END:VCALENDAR