BEGIN:VCALENDAR
VERSION:2.0
PRODID:-//Heartworks - ECPv5.9.0//NONSGML v1.0//EN
CALSCALE:GREGORIAN
METHOD:PUBLISH
X-WR-CALNAME:Heartworks
X-ORIGINAL-URL:https://www.njheartworks.org
X-WR-CALDESC:Events for Heartworks
BEGIN:VTIMEZONE
TZID:America/New_York
BEGIN:DAYLIGHT
TZOFFSETFROM:-0500
TZOFFSETTO:-0400
TZNAME:EDT
DTSTART:20200308T070000
END:DAYLIGHT
BEGIN:STANDARD
TZOFFSETFROM:-0400
TZOFFSETTO:-0500
TZNAME:EST
DTSTART:20201101T060000
END:STANDARD
END:VTIMEZONE
BEGIN:VEVENT
DTSTART;TZID=America/New_York:20200204T090000
DTEND;TZID=America/New_York:20200204T093000
DTSTAMP:20260419T151858
CREATED:20200121T175302Z
LAST-MODIFIED:20200121T175302Z
UID:6255-1580806800-1580808600@www.njheartworks.org
SUMMARY:Morning Meditation
DESCRIPTION:Join us every Tuesday morning to cultivate peace and connection in our guided meditation. No meditation experience necessary\, everyone is welcome.
URL:https://www.njheartworks.org/event/morning-meditation-18/
LOCATION:Heartworks\, 19 Route 202\, Basking Ridge\, NJ\, 07920\, United States
CATEGORIES:Morning Meditation
END:VEVENT
BEGIN:VEVENT
DTSTART;TZID=America/New_York:20200204T190000
DTEND;TZID=America/New_York:20200204T210000
DTSTAMP:20260419T151858
CREATED:20200121T175038Z
LAST-MODIFIED:20200121T175038Z
UID:6252-1580842800-1580850000@www.njheartworks.org
SUMMARY:Monthly Meeting
DESCRIPTION:Join Heartworks for the February Meeting\n7 p.m.        Newcomers meeting \n\n\n\n\n\n\n\n\n7-8 p.m.    Social hour (with a purpose) \n8 p.m.         Meeting begins \n$30 suggested donation \nAll of which goes to families in need of some love! \n\nClick here for more information about why we say “Come to a Meeting!”
URL:https://www.njheartworks.org/event/monthly-meeting-4/
LOCATION:Heartworks\, 19 Route 202\, Basking Ridge\, NJ\, 07920\, United States
CATEGORIES:Heartworks Meeting
ATTACH;FMTTYPE=image/jpeg:https://www.njheartworks.org/wp-content/uploads/2016/10/meeting.jpg
END:VEVENT
END:VCALENDAR