BEGIN:VCALENDAR
VERSION:2.0
PRODID:-//Heartworks - ECPv5.9.0//NONSGML v1.0//EN
CALSCALE:GREGORIAN
METHOD:PUBLISH
X-WR-CALNAME:Heartworks
X-ORIGINAL-URL:https://www.njheartworks.org
X-WR-CALDESC:Events for Heartworks
BEGIN:VTIMEZONE
TZID:America/New_York
BEGIN:DAYLIGHT
TZOFFSETFROM:-0500
TZOFFSETTO:-0400
TZNAME:EDT
DTSTART:20190310T070000
END:DAYLIGHT
BEGIN:STANDARD
TZOFFSETFROM:-0400
TZOFFSETTO:-0500
TZNAME:EST
DTSTART:20191103T060000
END:STANDARD
END:VTIMEZONE
BEGIN:VEVENT
DTSTART;TZID=America/New_York:20190815T190000
DTEND;TZID=America/New_York:20190815T210000
DTSTAMP:20260422T132047
CREATED:20190807T141853Z
LAST-MODIFIED:20190807T141853Z
UID:4340-1565895600-1565902800@www.njheartworks.org
SUMMARY:Screening Event
DESCRIPTION:Heartworks is being featured in an upcoming episode of Mike Rowe’s Returning The Favor. Join us for a screening event here at the Heartworks house. Bring your friends and family to watch the show with us! Don’t worry if you can’t make it right at 7\, we will be airing the show on a loop and enjoying snacks and conversation all evening.
URL:https://www.njheartworks.org/event/screening-event/
LOCATION:Heartworks\, 19 Route 202\, Basking Ridge\, NJ\, 07920\, United States
CATEGORIES:Event
ATTACH;FMTTYPE=image/png:https://www.njheartworks.org/wp-content/uploads/2019/08/Screening-Event-Thursday-August-15-7-9-pm-Everyone-welcome-Bring-your-family-to-see-Heartworks-featured-on-_Returning-the-Favor_-and-enjoy-snacks-and-conversation.png
END:VEVENT
END:VCALENDAR